BEGIN:VCALENDAR
VERSION:2.0
NAME:sportsYou Calendar
X-WR-CALNAME:sportsYou Calendar
BEGIN:VEVENT
UID:ev-e0eb8eb6-86ad-44fa-8b45-6e984dc918cc@calendar.sportsyou.com
DTSTART:20260110T180000Z
DTEND:20260110T220000Z
SUMMARY:WSHS Band of Gold - Varsity Guard Rehearsal
LOCATION:Winter Springs High School\, Tuskawilla Road\, Winter Springs\, FL
 \, USA
END:VEVENT
BEGIN:VEVENT
UID:ev-410a5421-2135-47c7-9c98-9c675fc3de11@calendar.sportsyou.com
DTSTART:20260117
SUMMARY:WSHS Band of Gold - Colorguard Premiere 
LOCATION:12401 Dowden Rd Orlando\, FL 32832
DESCRIPTION:Premier @ Innovation HS
END:VEVENT
BEGIN:VEVENT
UID:ev-024c7e55-51d5-450d-8243-cbf7278c3bdf@calendar.sportsyou.com
DTSTART:20260120T230000Z
DTEND:20260121T003000Z
SUMMARY:WSHS Band of Gold - Band Booster Meeting
LOCATION:130 Tuskawilla Rd Winter Springs\, FL 32708
DESCRIPTION:Band Booster Meeting - We will be meeting monthly to provide up
 dates and discuss and plan for  upcoming events. All meetings will take pla
 ce in the Band Room at the High School.
END:VEVENT
BEGIN:VEVENT
UID:ev-bca4ab14-6833-4c7e-8740-137040aae851@calendar.sportsyou.com
DTSTART:20260207
SUMMARY:WSHS Band of Gold - Winter Guard Performance @ University HS Orange
  City
LOCATION:1000 W Rhode Island Ave Orange City\, FL 32763
DESCRIPTION:2nd Show @ University HS  (orange city)
END:VEVENT
BEGIN:VEVENT
UID:ev-3388cea6-cc4a-4db3-9b38-21303d8a3d56@calendar.sportsyou.com
DTSTART:20260212T170000Z
DTEND:20260212T180000Z
SUMMARY:WSHS Band of Gold - Jazz Band MPA
LOCATION:Hagerty High School\, Lockwood Boulevard\, Oviedo\, FL\, USA
DESCRIPTION:9:00am-9:45am   Get into Uniform\, Snack\n\n9:45am-10:30am   Tr
 avel to Hagerty HS\n\n10:30am-11:15am   Watch bands perform\n\n11:15am-11:3
 0am   Move to Warm Up\n\n11:30am-12:00am   Warm Up\n\n12:00pm-12:30pm   Per
 form\n\n12:30pm-1:15pm   Return to WSHS\n\n1:15pm-2:15pm   Pizza
END:VEVENT
BEGIN:VEVENT
UID:ev-a27816e2-b00c-46b0-a233-2c702cf39be7@calendar.sportsyou.com
DTSTART:20260213
SUMMARY:WSHS Band of Gold - Solo and Ensemble @ Hagerty
END:VEVENT
BEGIN:VEVENT
UID:ev-8dff2b10-b800-43b4-918f-51add345acc1@calendar.sportsyou.com
DTSTART:20260214
SUMMARY:WSHS Band of Gold - Solo and Ensemble @ Hagerty
END:VEVENT
BEGIN:VEVENT
UID:ev-3052ad10-d4e2-49d8-9278-d607aa7af9e8@calendar.sportsyou.com
DTSTART:20260217T230000Z
DTEND:20260218T003000Z
SUMMARY:WSHS Band of Gold - Band Booster Meeting
LOCATION:130 Tuskawilla Rd Winter Springs\, FL 32708
DESCRIPTION:Band Booster Meeting - We will be meeting monthly to provide up
 dates and discuss and plan for  upcoming events. All meetings will take pla
 ce in the Band Room at the High School.
END:VEVENT
BEGIN:VEVENT
UID:ev-3205f993-51a8-41be-803f-9eda845d0c1d@calendar.sportsyou.com
DTSTART:20260220T233000Z
DTEND:20260221T013000Z
SUMMARY:WSHS Band of Gold - Band Pre-MPA Concert
LOCATION:Winter Springs High School\, Tuskawilla Road\, Winter Springs\, FL
 \, USA
END:VEVENT
BEGIN:VEVENT
UID:ev-f63e3c7c-b551-4393-9842-699d69b8aca7@calendar.sportsyou.com
DTSTART:20260221
SUMMARY:WSHS Band of Gold - Winterguard Performance @ Oviedo HS
LOCATION:601 King St Oviedo\, FL 32765
DESCRIPTION:3rd Show @ Oviedo HS 
END:VEVENT
BEGIN:VEVENT
UID:ev-eaef2ca9-b318-44c0-bd0c-e9ff4b795cff@calendar.sportsyou.com
DTSTART:20260305
SUMMARY:WSHS Band of Gold - Music Performance Assessment 
LOCATION:Oviedo High School\, King Street\, Oviedo\, FL\, USA
DESCRIPTION:Tentative Schedule:\n10:00am  Depart WSHS\n10:30am  Arrive and 
 Watch Bands\n12:00pm  Concert Band Warm Up\n12:30pm  Concert Band Performan
 ce\n1:00pm    Lunch at Concession Stand\n1:45pm    Watch Bands\n4:00pm   Sy
 mphonic Band Warm Up\n4:30pm   Symphonic Band Performance\n5:15pm    Depart
  OHS\n5:45pm   Arrive at WSHS for pickup
END:VEVENT
BEGIN:VEVENT
UID:ev-4717af05-71da-4be3-a26d-c038172519b4@calendar.sportsyou.com
DTSTART:20260307
SUMMARY:WSHS Band of Gold - Winterguard Performance @Apopka HS
LOCATION:555 Martin St Apopka\, FL 32712
DESCRIPTION:4th Show @ Apopka HS 
END:VEVENT
BEGIN:VEVENT
UID:ev-15cf24cc-3caa-4d0f-a406-1ac46c8590d7@calendar.sportsyou.com
DTSTART:20260313
SUMMARY:WSHS Band of Gold - Teacher Workday (No School)
END:VEVENT
BEGIN:VEVENT
UID:ev-22f12ab1-068e-47d6-be12-82f25a99bead@calendar.sportsyou.com
DTSTART:20260327T183000Z
DTEND:20260327T200000Z
SUMMARY:WSHS Band of Gold - Leadership Meeting
LOCATION:Winter Springs High School\, Tuskawilla Road\, Winter Springs\, FL
 \, USA
END:VEVENT
BEGIN:VEVENT
UID:ev-f8358881-ab0a-42d1-afa5-abc2e01208d9@calendar.sportsyou.com
DTSTART:20260327T190000Z
DTEND:20260327T220000Z
SUMMARY:WSHS Band of Gold - Varsity Guard Rehearsal
LOCATION:Winter Springs High School\, Tuskawilla Road\, Winter Springs\, FL
 \, USA
END:VEVENT
BEGIN:VEVENT
UID:ev-b79397c4-eeb1-4eb3-9f2c-e01bf14e815b@calendar.sportsyou.com
DTSTART:20260327T230000Z
DTEND:20260328T000000Z
SUMMARY:WSHS Band of Gold - Colorguard Preview Show w/LHHS
LOCATION:Tuskawilla Middle School\, Tuskawilla Road\, Oviedo\, FL\, USA
END:VEVENT
BEGIN:VEVENT
UID:ev-638acbf5-f8ee-435f-9d01-f2710c8fff38@calendar.sportsyou.com
DTSTART:20260328
SUMMARY:WSHS Band of Gold - Winterguard Performance (FFCC Championships) 
LOCATION:St. Cloud High School\, Bulldog Lane\, St. Cloud\, FL\, USA
DESCRIPTION:FFCC Championships\, possible locations are St. Cloud HS or Cyp
 ress Creek HS\, updates to come once more information is available. 
END:VEVENT
BEGIN:VEVENT
UID:ev-c48f36c2-dec8-49a6-be7b-497a7a5fb6a0@calendar.sportsyou.com
DTSTART:20260402T183000Z
DTEND:20260402T203000Z
SUMMARY:WSHS Band of Gold - Symphonic Band Rehearsal
LOCATION:Winter Springs High School\, Tuskawilla Road\, Winter Springs\, FL
 \, USA
END:VEVENT
BEGIN:VEVENT
UID:ev-d5e9842e-5058-4199-aa88-f8c89fc36194@calendar.sportsyou.com
DTSTART:20260403T183000Z
DTEND:20260403T200000Z
SUMMARY:WSHS Band of Gold - Leadership Meeting
LOCATION:Winter Springs High School\, Tuskawilla Road\, Winter Springs\, FL
 \, USA
END:VEVENT
BEGIN:VEVENT
UID:ev-33f7f895-f82d-48d3-bb0a-940918a61dbd@calendar.sportsyou.com
DTSTART:20260407
SUMMARY:WSHS Band of Gold - Concert Band Rehearsal
LOCATION:Winter Springs High School\, Tuskawilla Road\, Winter Springs\, FL
 \, USA
END:VEVENT
BEGIN:VEVENT
UID:ev-c126f981-5c35-4fae-849e-27590890805c@calendar.sportsyou.com
DTSTART:20260409T183000Z
DTEND:20260409T203000Z
SUMMARY:WSHS Band of Gold - Symphonic Band Rehearsal
LOCATION:Winter Springs High School\, Tuskawilla Road\, Winter Springs\, FL
 \, USA
END:VEVENT
BEGIN:VEVENT
UID:ev-ecf55ba4-ffbd-4a91-a95d-d6cdc2171cd0@calendar.sportsyou.com
DTSTART:20260410T183000Z
DTEND:20260410T200000Z
SUMMARY:WSHS Band of Gold - Leadership Meeting
LOCATION:Winter Springs High School\, Tuskawilla Road\, Winter Springs\, FL
 \, USA
END:VEVENT
BEGIN:VEVENT
UID:ev-0bf278ac-ebe8-41cb-bd1b-2ce77db79745@calendar.sportsyou.com
DTSTART:20260414
SUMMARY:WSHS Band of Gold - Concert Band Rehearsal
LOCATION:Winter Springs High School\, Tuskawilla Road\, Winter Springs\, FL
 \, USA
END:VEVENT
BEGIN:VEVENT
UID:ev-fe1b9fde-40d9-4ee6-90a5-abec66eca14e@calendar.sportsyou.com
DTSTART:20260416T183000Z
DTEND:20260416T203000Z
SUMMARY:WSHS Band of Gold - Symphonic Band Rehearsal
LOCATION:Winter Springs High School\, Tuskawilla Road\, Winter Springs\, FL
 \, USA
END:VEVENT
BEGIN:VEVENT
UID:ev-2b502ad9-031c-4021-af26-5e0d93b5d388@calendar.sportsyou.com
DTSTART:20260417T183000Z
DTEND:20260417T200000Z
SUMMARY:WSHS Band of Gold - Leadership Meeting
LOCATION:Winter Springs High School\, Tuskawilla Road\, Winter Springs\, FL
 \, USA
END:VEVENT
BEGIN:VEVENT
UID:ev-91b496e5-f181-4d7c-9163-e0d6d5a2ca16@calendar.sportsyou.com
DTSTART:20260428T183000Z
DTEND:20260428T213000Z
SUMMARY:WSHS Band of Gold - Combined Band Rehearsal
LOCATION:Winter Springs High School\, Tuskawilla Road\, Winter Springs\, FL
 \, USA
END:VEVENT
BEGIN:VEVENT
UID:ev-97e313e9-ff7e-4da6-a796-c4620dcd177d@calendar.sportsyou.com
DTSTART:20260430T223000Z
DTEND:20260501T010000Z
SUMMARY:WSHS Band of Gold - Spring Concert
LOCATION:Winter Springs High School\, Tuskawilla Road\, Winter Springs\, FL
 \, USA
END:VEVENT
BEGIN:VEVENT
UID:ev-d8c39d9d-74a3-429b-8c3f-73cd83e580b0@calendar.sportsyou.com
DTSTART:20260501T183000Z
DTEND:20260501T200000Z
SUMMARY:WSHS Band of Gold - Leadership Meeting
LOCATION:Winter Springs High School\, Tuskawilla Road\, Winter Springs\, FL
 \, USA
END:VEVENT
BEGIN:VEVENT
UID:ev-0f439814-530d-4537-bbe7-9c66d951cb23@calendar.sportsyou.com
DTSTART:20260504T203000Z
DTEND:20260504T223000Z
SUMMARY:WSHS Band of Gold - Colorguard Interest/Auditions
LOCATION:Winter Springs High School\, Tuskawilla Road\, Winter Springs\, FL
 \, USA
END:VEVENT
BEGIN:VEVENT
UID:ev-de9b2719-b9be-4c64-8be7-fc1a5fc89927@calendar.sportsyou.com
DTSTART:20260505T213000Z
DTEND:20260506T003000Z
SUMMARY:WSHS Band of Gold - ITMS Band Concert
LOCATION:Winter Springs High School\, Tuskawilla Road\, Winter Springs\, FL
 \, USA
DESCRIPTION:Student volunteers only. Click the link below to volunteer for 
 stage crew:\n\nhttps://www.signupgenius.com/go/10C084FA4AB2EA2F9C16-5777727
 2-itms\n\nVolunteers should arrive by 5:30pm to assist with setup and shoul
 d remain for the duration of the concert.\n
END:VEVENT
BEGIN:VEVENT
UID:ev-ca47b8f7-5fe1-4886-839c-9a19b6dfe2fa@calendar.sportsyou.com
DTSTART:20260507T203000Z
DTEND:20260507T223000Z
SUMMARY:WSHS Band of Gold - Colorguard Interest/Auditions
LOCATION:Winter Springs High School\, Tuskawilla Road\, Winter Springs\, FL
 \, USA
END:VEVENT
BEGIN:VEVENT
UID:ev-83dcdadd-5b84-4ea2-8651-0b6fd9c9cc77@calendar.sportsyou.com
DTSTART:20260508T203000Z
DTEND:20260508T223000Z
SUMMARY:WSHS Band of Gold - Colorguard Interest/Auditions
LOCATION:Winter Springs High School\, Tuskawilla Road\, Winter Springs\, FL
 \, USA
END:VEVENT
BEGIN:VEVENT
UID:ev-bd2e65bd-7686-4a41-aa0b-6fe5fc5f45d5@calendar.sportsyou.com
DTSTART:20260511T213000Z
DTEND:20260512T003000Z
SUMMARY:WSHS Band of Gold - Tuskawilla MS Concert
LOCATION:Winter Springs High School\, Tuskawilla Road\, Winter Springs\, FL
 \, USA
DESCRIPTION:Student volunteers only. Click the link below to volunteer for 
 stage crew:\n\nhttps://www.signupgenius.com/go/10C084FA4AB2EA2F9C16-6314234
 5-tuskawilla\n\nVolunteers should arrive by 5:30pm to assist with setup and
  should remain for the duration of the concert.
END:VEVENT
BEGIN:VEVENT
UID:ev-2026eee7-5242-4333-b9c1-0d026380c1b2@calendar.sportsyou.com
DTSTART:20260512T220000Z
DTEND:20260512T233000Z
SUMMARY:WSHS Band of Gold - Band Orientation/Icebreaker
END:VEVENT
BEGIN:VEVENT
UID:ev-6df4c636-9825-469a-81b9-1668e05eb1ac@calendar.sportsyou.com
DTSTART:20260514T213000Z
DTEND:20260514T230000Z
SUMMARY:WSHS Band of Gold - South Seminole MS Band Concert
LOCATION:Winter Springs High School\, Tuskawilla Road\, Winter Springs\, FL
 \, USA
DESCRIPTION:Student volunteers only. Click the link below to volunteer for 
 stage crew:\n\nhttps://www.signupgenius.com/go/10C084FA4AB2EA2F9C16-6314189
 8-south\n\nVolunteers should arrive by 5:30pm to assist with setup and rema
 in for the duration of the concert.
END:VEVENT
BEGIN:VEVENT
UID:ev-0fee65c2-e114-4ed2-a22f-ef459c80a6c8@calendar.sportsyou.com
DTSTART:20260516
SUMMARY:WSHS Band of Gold - Band Banquet (Tentative)
LOCATION:Winter Springs High School\, Tuskawilla Road\, Winter Springs\, FL
 \, USA
END:VEVENT
BEGIN:VEVENT
UID:ev-4d24903b-8f6f-4003-961b-f741e8307fc6@calendar.sportsyou.com
DTSTART:20260519T220000Z
DTEND:20260519T233000Z
SUMMARY:WSHS Band of Gold - Band Booster Meeting
LOCATION:130 Tuskawilla Rd Winter Springs\, FL 32708
DESCRIPTION:Band Booster Meeting - We will be meeting monthly to provide up
 dates and discuss and plan for  upcoming events. All meetings will take pla
 ce in the Band Room at the High School.
END:VEVENT
BEGIN:VEVENT
UID:ev-24697ec4-a3d9-4462-85ae-6ebe86b2fe92@calendar.sportsyou.com
DTSTART:20260530
SUMMARY:WSHS Band of Gold - Colorguard LEAPS Leadership Camp
LOCATION:TBA
END:VEVENT
BEGIN:VEVENT
UID:ev-10c0ae07-0717-4558-ad6e-e8f5c3f34abe@calendar.sportsyou.com
DTSTART:20260727T120000Z
DTEND:20260727T210000Z
SUMMARY:WSHS Band of Gold - Band Camp
LOCATION:Winter Springs High School Winter Springs\, FL 32708
END:VEVENT
BEGIN:VEVENT
UID:ev-6b0dbeb8-0664-4d87-9155-d6cb43c8ef64@calendar.sportsyou.com
DTSTART:20260728T120000Z
DTEND:20260728T210000Z
SUMMARY:WSHS Band of Gold - Band Camp
LOCATION:Winter Springs High School Winter Springs\, FL 32708
END:VEVENT
BEGIN:VEVENT
UID:ev-582c194e-c9dc-452a-984b-62bc137c608e@calendar.sportsyou.com
DTSTART:20260729T120000Z
DTEND:20260729T210000Z
SUMMARY:WSHS Band of Gold - Band Camp
LOCATION:Winter Springs High School Winter Springs\, FL 32708
END:VEVENT
BEGIN:VEVENT
UID:ev-edceb7d7-b4c5-476e-a598-968d7507eefc@calendar.sportsyou.com
DTSTART:20260730T120000Z
DTEND:20260730T210000Z
SUMMARY:WSHS Band of Gold - Band Camp
LOCATION:Winter Springs High School Winter Springs\, FL 32708
END:VEVENT
BEGIN:VEVENT
UID:ev-682d8986-ea77-4b30-a289-9977b6a90a94@calendar.sportsyou.com
DTSTART:20260731T120000Z
DTEND:20260731T210000Z
SUMMARY:WSHS Band of Gold - Band Camp
LOCATION:Winter Springs High School Winter Springs\, FL 32708
END:VEVENT
END:VCALENDAR
